BEGIN:VCALENDAR
VERSION:2.0
PRODID:-//Best Taco Food Truck in Northern VA - ECPv6.15.20//NONSGML v1.0//EN
CALSCALE:GREGORIAN
METHOD:PUBLISH
X-WR-CALNAME:Best Taco Food Truck in Northern VA
X-ORIGINAL-URL:https://theroamingcoyote.com
X-WR-CALDESC:Events for Best Taco Food Truck in Northern VA
REFRESH-INTERVAL;VALUE=DURATION:PT1H
X-Robots-Tag:noindex
X-PUBLISHED-TTL:PT1H
BEGIN:VTIMEZONE
TZID:America/New_York
BEGIN:DAYLIGHT
TZOFFSETFROM:-0500
TZOFFSETTO:-0400
TZNAME:EDT
DTSTART:20240310T070000
END:DAYLIGHT
BEGIN:STANDARD
TZOFFSETFROM:-0400
TZOFFSETTO:-0500
TZNAME:EST
DTSTART:20241103T060000
END:STANDARD
BEGIN:DAYLIGHT
TZOFFSETFROM:-0500
TZOFFSETTO:-0400
TZNAME:EDT
DTSTART:20250309T070000
END:DAYLIGHT
BEGIN:STANDARD
TZOFFSETFROM:-0400
TZOFFSETTO:-0500
TZNAME:EST
DTSTART:20251102T060000
END:STANDARD
BEGIN:DAYLIGHT
TZOFFSETFROM:-0500
TZOFFSETTO:-0400
TZNAME:EDT
DTSTART:20260308T070000
END:DAYLIGHT
BEGIN:STANDARD
TZOFFSETFROM:-0400
TZOFFSETTO:-0500
TZNAME:EST
DTSTART:20261101T060000
END:STANDARD
END:VTIMEZONE
BEGIN:VEVENT
DTSTART;TZID=America/New_York:20250915T110000
DTEND;TZID=America/New_York:20250915T130000
DTSTAMP:20260420T071005
CREATED:20250901T205602Z
LAST-MODIFIED:20250901T205602Z
UID:9374-1757934000-1757941200@theroamingcoyote.com
SUMMARY:Arcellx
DESCRIPTION:
URL:https://theroamingcoyote.com/event/arcellx/
LOCATION:800 King Farm Blvd\, 800 King Farm Blvd\, Rockville\, MD\, 20850\, United States
END:VEVENT
BEGIN:VEVENT
DTSTART;TZID=America/New_York:20250913T150000
DTEND;TZID=America/New_York:20250913T180000
DTSTAMP:20260420T071005
CREATED:20250901T205252Z
LAST-MODIFIED:20250901T205252Z
UID:9370-1757775600-1757786400@theroamingcoyote.com
SUMMARY:James McDonnell Recreation Center
DESCRIPTION:
URL:https://theroamingcoyote.com/event/james-mcdonnell-recreation-center/
LOCATION:6119 Pleasant Valley Rd\, 6119 Pleasant Valley Rd\, Centreville\, VA\, 20120\, United States
END:VEVENT
BEGIN:VEVENT
DTSTART;TZID=America/New_York:20250912T123000
DTEND;TZID=America/New_York:20250912T133000
DTSTAMP:20260420T071005
CREATED:20250901T205055Z
LAST-MODIFIED:20250901T205055Z
UID:9366-1757680200-1757683800@theroamingcoyote.com
SUMMARY:Sjogren Foundation
DESCRIPTION:
URL:https://theroamingcoyote.com/event/sjogren-foundation/
LOCATION:11190 Sunrise Valley Dr\, 11190 Sunrise Valley Dr\, Reston\, VA\, 20191\, United States
END:VEVENT
BEGIN:VEVENT
DTSTART;TZID=America/New_York:20250911T170000
DTEND;TZID=America/New_York:20250911T190000
DTSTAMP:20260420T071005
CREATED:20250901T204759Z
LAST-MODIFIED:20250901T204759Z
UID:9361-1757610000-1757617200@theroamingcoyote.com
SUMMARY:Ditch Witch ACE
DESCRIPTION:
URL:https://theroamingcoyote.com/event/ditch-witch-ace/
LOCATION:11875 Livingston Rd\, 11875 Livingston Rd\, Manassass\, VA\, 20109\, United States
END:VEVENT
BEGIN:VEVENT
DTSTART;TZID=America/New_York:20250910T163000
DTEND;TZID=America/New_York:20250910T193000
DTSTAMP:20260420T071005
CREATED:20250901T204509Z
LAST-MODIFIED:20250901T204509Z
UID:9357-1757521800-1757532600@theroamingcoyote.com
SUMMARY:Daniel's Run Elementary School
DESCRIPTION:
URL:https://theroamingcoyote.com/event/daniels-run-elementary-school/
LOCATION:3705 Blenheim Blvd\, 3705 Blenheim Blvd\, Fairfax\, VA\, 22030\, United States
END:VEVENT
BEGIN:VEVENT
DTSTART;TZID=America/New_York:20250910T160000
DTEND;TZID=America/New_York:20250910T200000
DTSTAMP:20260420T071005
CREATED:20250812T180842Z
LAST-MODIFIED:20250901T204324Z
UID:9311-1757520000-1757534400@theroamingcoyote.com
SUMMARY:Bunnyman Brewing Co
DESCRIPTION:
URL:https://theroamingcoyote.com/event/bunnyman-brewing-co-47/
LOCATION:5583 Guinea Rd\, 5583 Guinea Rd\, Fairfax\, VA\, 22032\, United States
END:VEVENT
BEGIN:VEVENT
DTSTART;TZID=America/New_York:20250910T120000
DTEND;TZID=America/New_York:20250910T150000
DTSTAMP:20260420T071005
CREATED:20250901T204217Z
LAST-MODIFIED:20250901T204217Z
UID:9351-1757505600-1757516400@theroamingcoyote.com
SUMMARY:21240 Ridgetop Circle
DESCRIPTION:
URL:https://theroamingcoyote.com/event/21240-ridgetop-circle/
LOCATION:21240 Ridgetop Circle\, 21240 Ridgetop Circle\, Sterling\, VA\, 10266\, United States
END:VEVENT
BEGIN:VEVENT
DTSTART;TZID=America/New_York:20250906T203000
DTEND;TZID=America/New_York:20250906T223000
DTSTAMP:20260420T071005
CREATED:20220105T230524Z
LAST-MODIFIED:20250901T202351Z
UID:6920-1757190600-1757197800@theroamingcoyote.com
SUMMARY:DC Social Collective
DESCRIPTION:
URL:https://theroamingcoyote.com/event/winery-at-bull-run-5/
LOCATION:Bull Run Winery\, 15950 Lee Hwy\, Centreville\, VA\, 20120\, United States
END:VEVENT
BEGIN:VEVENT
DTSTART;TZID=America/New_York:20250906T173000
DTEND;TZID=America/New_York:20250906T193000
DTSTAMP:20260420T071005
CREATED:20250901T202814Z
LAST-MODIFIED:20250901T202814Z
UID:9347-1757179800-1757187000@theroamingcoyote.com
SUMMARY:Glenstone Museum
DESCRIPTION:
URL:https://theroamingcoyote.com/event/glenstone-museum/
LOCATION:12100 Glen Road\, 12100 Glen Road\, Potomac\, MD\, 20854\, United States
END:VEVENT
BEGIN:VEVENT
DTSTART;TZID=America/New_York:20250905T110000
DTEND;TZID=America/New_York:20250905T130000
DTSTAMP:20260420T071005
CREATED:20250901T202204Z
LAST-MODIFIED:20250901T202204Z
UID:9337-1757070000-1757077200@theroamingcoyote.com
SUMMARY:Ruppert Companies Employee Appreciation
DESCRIPTION:
URL:https://theroamingcoyote.com/event/ruppert-companies-employee-appreciation/
LOCATION:12530 Parklawn Drive\, 12530 Parklawn Drive\, Rockville\, MD\, 20852\, United States
END:VEVENT
BEGIN:VEVENT
DTSTART;TZID=America/New_York:20250905T110000
DTEND;TZID=America/New_York:20250905T130000
DTSTAMP:20260420T071005
CREATED:20250901T201942Z
LAST-MODIFIED:20250901T201942Z
UID:9334-1757070000-1757077200@theroamingcoyote.com
SUMMARY:Alban Tire (private)
DESCRIPTION:
URL:https://theroamingcoyote.com/event/alban-tire-private/
LOCATION:7244 Boudinot Dr\, 7244 Boudinot Dr\, Springfield\, VA\, 22150\, United States
END:VEVENT
BEGIN:VEVENT
DTSTART;TZID=America/New_York:20250905T100000
DTEND;TZID=America/New_York:20250905T160000
DTSTAMP:20260420T071005
CREATED:20250929T210551Z
LAST-MODIFIED:20250929T210551Z
UID:9412-1757066400-1757088000@theroamingcoyote.com
SUMMARY:McLean Arts Fest
DESCRIPTION:
URL:https://theroamingcoyote.com/event/mclean-arts-fest/
LOCATION:McLean Central Park\, 1486 Dolly Madison Blvd\, McLean\, VA\, 22101\, United States
END:VEVENT
BEGIN:VEVENT
DTSTART;TZID=America/New_York:20250904T110000
DTEND;TZID=America/New_York:20250904T130000
DTSTAMP:20260420T071005
CREATED:20250901T201606Z
LAST-MODIFIED:20250901T201606Z
UID:9326-1756983600-1756990800@theroamingcoyote.com
SUMMARY:1201 Maryland Ave SW
DESCRIPTION:
URL:https://theroamingcoyote.com/event/1201-maryland-ave-sw/
LOCATION:1201 Maryland Ave SW\, 1201 Maryland Ave SW\, Washington DC\, DC\, 20024\, United States
END:VEVENT
BEGIN:VEVENT
DTSTART;TZID=America/New_York:20250901T180000
DTEND;TZID=America/New_York:20250901T210000
DTSTAMP:20260420T071005
CREATED:20250901T201813Z
LAST-MODIFIED:20250901T201813Z
UID:9330-1756749600-1756760400@theroamingcoyote.com
SUMMARY:Georgetown University
DESCRIPTION:
URL:https://theroamingcoyote.com/event/georgetown-university/
LOCATION:1580 West Rd\, 1580 West Rd\, Washington DC\, DC\, 20057\, United States
END:VEVENT
BEGIN:VEVENT
DTSTART;TZID=America/New_York:20250829T190000
DTEND;TZID=America/New_York:20250829T210000
DTSTAMP:20260420T071005
CREATED:20240603T202730Z
LAST-MODIFIED:20250812T180941Z
UID:8317-1756494000-1756501200@theroamingcoyote.com
SUMMARY:Arlington Forest Swim Club
DESCRIPTION:
URL:https://theroamingcoyote.com/event/arlington-forest-swim-club/
LOCATION:5401 N Carlin Springs Rd\, 5401 N Carlin Springs Rd\, Arlington\, VA\, 22203\, United States
END:VEVENT
BEGIN:VEVENT
DTSTART;TZID=America/New_York:20250829T110000
DTEND;TZID=America/New_York:20250829T140000
DTSTAMP:20260420T071005
CREATED:20250812T180715Z
LAST-MODIFIED:20250812T180715Z
UID:9307-1756465200-1756476000@theroamingcoyote.com
SUMMARY:GWU Potomac Square
DESCRIPTION:
URL:https://theroamingcoyote.com/event/gwu-potomac-square-2/
LOCATION:2008 G St NW\, 2008 G St NW\, Washington DC\, DC\, 20052\, United States
END:VEVENT
BEGIN:VEVENT
DTSTART;TZID=America/New_York:20250827T113000
DTEND;TZID=America/New_York:20250827T140000
DTSTAMP:20260420T071005
CREATED:20240805T150619Z
LAST-MODIFIED:20250812T175951Z
UID:8467-1756294200-1756303200@theroamingcoyote.com
SUMMARY:Fairfax County Courthouse
DESCRIPTION:
URL:https://theroamingcoyote.com/event/fairfax-county-courthouse/
LOCATION:4110 Chain Bridge Rd\, 4110 Chain Bridge Rd\, Fairfax\, VA\, 22030\, United States
END:VEVENT
BEGIN:VEVENT
DTSTART;TZID=America/New_York:20250825T110000
DTEND;TZID=America/New_York:20250825T140000
DTSTAMP:20260420T071005
CREATED:20250428T144154Z
LAST-MODIFIED:20250812T175913Z
UID:9049-1756119600-1756130400@theroamingcoyote.com
SUMMARY:GWU Potomac Square
DESCRIPTION:
URL:https://theroamingcoyote.com/event/gwu-potomac-square/
LOCATION:2008 G St NW\, 2008 G St NW\, Washington DC\, DC\, 20052\, United States
END:VEVENT
BEGIN:VEVENT
DTSTART;TZID=America/New_York:20250823T160000
DTEND;TZID=America/New_York:20250823T190000
DTSTAMP:20260420T071005
CREATED:20240422T143923Z
LAST-MODIFIED:20250812T175615Z
UID:8188-1755964800-1755975600@theroamingcoyote.com
SUMMARY:Fox Mill Elementary School
DESCRIPTION:
URL:https://theroamingcoyote.com/event/fox-mill-teacher-appreciation-private/
LOCATION:2601 Viking Dr\, 2601 Viking Dr\, Herndon\, VA\, 20171\, United States
END:VEVENT
BEGIN:VEVENT
DTSTART;TZID=America/New_York:20250822T173000
DTEND;TZID=America/New_York:20250822T193000
DTSTAMP:20260420T071005
CREATED:20240805T153253Z
LAST-MODIFIED:20250812T175508Z
UID:8508-1755883800-1755891000@theroamingcoyote.com
SUMMARY:Kent Gardens Elementary School
DESCRIPTION:
URL:https://theroamingcoyote.com/event/kent-gardens-es-private/
LOCATION:1717 Melbourne Dr\, 1717 Melbourne Dr\, McLean\, VA\, 22101\, United States
END:VEVENT
BEGIN:VEVENT
DTSTART;TZID=America/New_York:20250822T170000
DTEND;TZID=America/New_York:20250822T200000
DTSTAMP:20260420T071005
CREATED:20240603T204010Z
LAST-MODIFIED:20250812T175412Z
UID:8333-1755882000-1755892800@theroamingcoyote.com
SUMMARY:Vienna Aquatic Club
DESCRIPTION:
URL:https://theroamingcoyote.com/event/vienna-aquatic-club/
LOCATION:625 Marshall Rd SW\, 625 Marshall Rd SW\, Vienna\, VA\, 22180\, United States
END:VEVENT
BEGIN:VEVENT
DTSTART;TZID=America/New_York:20250819T110000
DTEND;TZID=America/New_York:20250819T130000
DTSTAMP:20260420T071005
CREATED:20250812T174951Z
LAST-MODIFIED:20250812T174951Z
UID:9295-1755601200-1755608400@theroamingcoyote.com
SUMMARY:Independence High School
DESCRIPTION:
URL:https://theroamingcoyote.com/event/independence-high-school/
LOCATION:23115 Learning Circle\, 23115 Learning Circle\, Ashburn\, VA\, 20148\, United States
END:VEVENT
BEGIN:VEVENT
DTSTART;TZID=America/New_York:20250819T083000
DTEND;TZID=America/New_York:20250819T130000
DTSTAMP:20260420T071005
CREATED:20250812T174810Z
LAST-MODIFIED:20250812T174810Z
UID:9291-1755592200-1755608400@theroamingcoyote.com
SUMMARY:10440 Furnace Rd\, Lorton
DESCRIPTION:
URL:https://theroamingcoyote.com/event/10440-furnace-rd-lorton/
LOCATION:10440 Furnace Rd\, 10440 Furnace Rd\, Lorton\, VA\, 22079\, United States
END:VEVENT
BEGIN:VEVENT
DTSTART;TZID=America/New_York:20250816T130000
DTEND;TZID=America/New_York:20250816T150000
DTSTAMP:20260420T071005
CREATED:20250812T174352Z
LAST-MODIFIED:20250812T174352Z
UID:9287-1755349200-1755356400@theroamingcoyote.com
SUMMARY:Genesis Church (private)
DESCRIPTION:
URL:https://theroamingcoyote.com/event/genesis-church-private/
LOCATION:1300 Campus Way\, 1300 Campus Way\, Mitchelville\, MD\, 20721\, United States
END:VEVENT
BEGIN:VEVENT
DTSTART;TZID=America/New_York:20250815T180000
DTEND;TZID=America/New_York:20250815T200000
DTSTAMP:20260420T071005
CREATED:20250812T173938Z
LAST-MODIFIED:20250812T173938Z
UID:9283-1755280800-1755288000@theroamingcoyote.com
SUMMARY:Boston Properties Movie Night
DESCRIPTION:
URL:https://theroamingcoyote.com/event/boston-properties-movie-night/
LOCATION:1950 Observation Way\, 1950 Opportunity Way\, Reston\, VA\, 20190\, United States
END:VEVENT
BEGIN:VEVENT
DTSTART;TZID=America/New_York:20250815T113000
DTEND;TZID=America/New_York:20250815T130000
DTSTAMP:20260420T071005
CREATED:20250812T173215Z
LAST-MODIFIED:20250812T173232Z
UID:9277-1755257400-1755262800@theroamingcoyote.com
SUMMARY:Relative Dynamics Inc (private)
DESCRIPTION:
URL:https://theroamingcoyote.com/event/relative-dynamics-inc/
LOCATION:14400 Sweitzer Lane\, 14400 Sweitzer Lane\, Laurel\, MD\, 20707\, United States
END:VEVENT
BEGIN:VEVENT
DTSTART;TZID=America/New_York:20250815T110000
DTEND;TZID=America/New_York:20250815T140000
DTSTAMP:20260420T071005
CREATED:20240805T151551Z
LAST-MODIFIED:20250812T173019Z
UID:8486-1755255600-1755266400@theroamingcoyote.com
SUMMARY:Merritt Academy Teacher Appreciation
DESCRIPTION:
URL:https://theroamingcoyote.com/event/merritt-academy-teacher-appreciation-private/
LOCATION:9211 Arlington Blvd\, 9211 Arlington Blvd\, Fairfax\, VA\, United States
END:VEVENT
BEGIN:VEVENT
DTSTART;TZID=America/New_York:20250814T163000
DTEND;TZID=America/New_York:20250814T193000
DTSTAMP:20260420T071005
CREATED:20250711T152520Z
LAST-MODIFIED:20250711T172936Z
UID:9265-1755189000-1755199800@theroamingcoyote.com
SUMMARY:Chantilly HS Open House
DESCRIPTION:
URL:https://theroamingcoyote.com/event/chantilly-hs-open-house/
LOCATION:Chantilly HS\, 4201 Stringfellow Rd\, Chantilly\, VA\, 20151\, United States
END:VEVENT
BEGIN:VEVENT
DTSTART;TZID=America/New_York:20250814T110000
DTEND;TZID=America/New_York:20250814T140000
DTSTAMP:20260420T071005
CREATED:20250812T172916Z
LAST-MODIFIED:20250812T172916Z
UID:9272-1755169200-1755180000@theroamingcoyote.com
SUMMARY:Lake Braddock HS Bruin Blast
DESCRIPTION:
URL:https://theroamingcoyote.com/event/lake-braddock-hs-bruin-blast/
LOCATION:Lake Braddock Secondary School\, 9200 Burke Lake Rd\, Burke\, VA\, 22015\, United States
END:VEVENT
BEGIN:VEVENT
DTSTART;TZID=America/New_York:20250802T090000
DTEND;TZID=America/New_York:20250802T140000
DTSTAMP:20260420T071005
CREATED:20250710T183143Z
LAST-MODIFIED:20250710T184155Z
UID:9254-1754125200-1754143200@theroamingcoyote.com
SUMMARY:Friendship Firehouse Festival
DESCRIPTION:
URL:https://theroamingcoyote.com/event/friendship-firehouse-festival/
LOCATION:100 South Alfred St\, 100 South Alfred St\, Alexandria\, VA\, 22314\, United States
END:VEVENT
END:VCALENDAR