BEGIN:VCALENDAR
VERSION:2.0
PRODID:-//Best Taco Food Truck in Northern VA - ECPv6.15.20//NONSGML v1.0//EN
CALSCALE:GREGORIAN
METHOD:PUBLISH
X-WR-CALNAME:Best Taco Food Truck in Northern VA
X-ORIGINAL-URL:https://theroamingcoyote.com
X-WR-CALDESC:Events for Best Taco Food Truck in Northern VA
REFRESH-INTERVAL;VALUE=DURATION:PT1H
X-Robots-Tag:noindex
X-PUBLISHED-TTL:PT1H
BEGIN:VTIMEZONE
TZID:America/New_York
BEGIN:DAYLIGHT
TZOFFSETFROM:-0500
TZOFFSETTO:-0400
TZNAME:EDT
DTSTART:20240310T070000
END:DAYLIGHT
BEGIN:STANDARD
TZOFFSETFROM:-0400
TZOFFSETTO:-0500
TZNAME:EST
DTSTART:20241103T060000
END:STANDARD
BEGIN:DAYLIGHT
TZOFFSETFROM:-0500
TZOFFSETTO:-0400
TZNAME:EDT
DTSTART:20250309T070000
END:DAYLIGHT
BEGIN:STANDARD
TZOFFSETFROM:-0400
TZOFFSETTO:-0500
TZNAME:EST
DTSTART:20251102T060000
END:STANDARD
BEGIN:DAYLIGHT
TZOFFSETFROM:-0500
TZOFFSETTO:-0400
TZNAME:EDT
DTSTART:20260308T070000
END:DAYLIGHT
BEGIN:STANDARD
TZOFFSETFROM:-0400
TZOFFSETTO:-0500
TZNAME:EST
DTSTART:20261101T060000
END:STANDARD
END:VTIMEZONE
BEGIN:VEVENT
DTSTART;TZID=America/New_York:20250822T170000
DTEND;TZID=America/New_York:20250822T200000
DTSTAMP:20260424T042607
CREATED:20240603T204010Z
LAST-MODIFIED:20250812T175412Z
UID:8333-1755882000-1755892800@theroamingcoyote.com
SUMMARY:Vienna Aquatic Club
DESCRIPTION:
URL:https://theroamingcoyote.com/event/vienna-aquatic-club/
LOCATION:625 Marshall Rd SW\, 625 Marshall Rd SW\, Vienna\, VA\, 22180\, United States
END:VEVENT
BEGIN:VEVENT
DTSTART;TZID=America/New_York:20250819T110000
DTEND;TZID=America/New_York:20250819T130000
DTSTAMP:20260424T042607
CREATED:20250812T174951Z
LAST-MODIFIED:20250812T174951Z
UID:9295-1755601200-1755608400@theroamingcoyote.com
SUMMARY:Independence High School
DESCRIPTION:
URL:https://theroamingcoyote.com/event/independence-high-school/
LOCATION:23115 Learning Circle\, 23115 Learning Circle\, Ashburn\, VA\, 20148\, United States
END:VEVENT
BEGIN:VEVENT
DTSTART;TZID=America/New_York:20250819T083000
DTEND;TZID=America/New_York:20250819T130000
DTSTAMP:20260424T042607
CREATED:20250812T174810Z
LAST-MODIFIED:20250812T174810Z
UID:9291-1755592200-1755608400@theroamingcoyote.com
SUMMARY:10440 Furnace Rd\, Lorton
DESCRIPTION:
URL:https://theroamingcoyote.com/event/10440-furnace-rd-lorton/
LOCATION:10440 Furnace Rd\, 10440 Furnace Rd\, Lorton\, VA\, 22079\, United States
END:VEVENT
BEGIN:VEVENT
DTSTART;TZID=America/New_York:20250816T130000
DTEND;TZID=America/New_York:20250816T150000
DTSTAMP:20260424T042607
CREATED:20250812T174352Z
LAST-MODIFIED:20250812T174352Z
UID:9287-1755349200-1755356400@theroamingcoyote.com
SUMMARY:Genesis Church (private)
DESCRIPTION:
URL:https://theroamingcoyote.com/event/genesis-church-private/
LOCATION:1300 Campus Way\, 1300 Campus Way\, Mitchelville\, MD\, 20721\, United States
END:VEVENT
BEGIN:VEVENT
DTSTART;TZID=America/New_York:20250815T180000
DTEND;TZID=America/New_York:20250815T200000
DTSTAMP:20260424T042607
CREATED:20250812T173938Z
LAST-MODIFIED:20250812T173938Z
UID:9283-1755280800-1755288000@theroamingcoyote.com
SUMMARY:Boston Properties Movie Night
DESCRIPTION:
URL:https://theroamingcoyote.com/event/boston-properties-movie-night/
LOCATION:1950 Observation Way\, 1950 Opportunity Way\, Reston\, VA\, 20190\, United States
END:VEVENT
BEGIN:VEVENT
DTSTART;TZID=America/New_York:20250815T113000
DTEND;TZID=America/New_York:20250815T130000
DTSTAMP:20260424T042607
CREATED:20250812T173215Z
LAST-MODIFIED:20250812T173232Z
UID:9277-1755257400-1755262800@theroamingcoyote.com
SUMMARY:Relative Dynamics Inc (private)
DESCRIPTION:
URL:https://theroamingcoyote.com/event/relative-dynamics-inc/
LOCATION:14400 Sweitzer Lane\, 14400 Sweitzer Lane\, Laurel\, MD\, 20707\, United States
END:VEVENT
BEGIN:VEVENT
DTSTART;TZID=America/New_York:20250815T110000
DTEND;TZID=America/New_York:20250815T140000
DTSTAMP:20260424T042607
CREATED:20240805T151551Z
LAST-MODIFIED:20250812T173019Z
UID:8486-1755255600-1755266400@theroamingcoyote.com
SUMMARY:Merritt Academy Teacher Appreciation
DESCRIPTION:
URL:https://theroamingcoyote.com/event/merritt-academy-teacher-appreciation-private/
LOCATION:9211 Arlington Blvd\, 9211 Arlington Blvd\, Fairfax\, VA\, United States
END:VEVENT
BEGIN:VEVENT
DTSTART;TZID=America/New_York:20250814T163000
DTEND;TZID=America/New_York:20250814T193000
DTSTAMP:20260424T042607
CREATED:20250711T152520Z
LAST-MODIFIED:20250711T172936Z
UID:9265-1755189000-1755199800@theroamingcoyote.com
SUMMARY:Chantilly HS Open House
DESCRIPTION:
URL:https://theroamingcoyote.com/event/chantilly-hs-open-house/
LOCATION:Chantilly HS\, 4201 Stringfellow Rd\, Chantilly\, VA\, 20151\, United States
END:VEVENT
BEGIN:VEVENT
DTSTART;TZID=America/New_York:20250814T110000
DTEND;TZID=America/New_York:20250814T140000
DTSTAMP:20260424T042607
CREATED:20250812T172916Z
LAST-MODIFIED:20250812T172916Z
UID:9272-1755169200-1755180000@theroamingcoyote.com
SUMMARY:Lake Braddock HS Bruin Blast
DESCRIPTION:
URL:https://theroamingcoyote.com/event/lake-braddock-hs-bruin-blast/
LOCATION:Lake Braddock Secondary School\, 9200 Burke Lake Rd\, Burke\, VA\, 22015\, United States
END:VEVENT
BEGIN:VEVENT
DTSTART;TZID=America/New_York:20250802T090000
DTEND;TZID=America/New_York:20250802T140000
DTSTAMP:20260424T042607
CREATED:20250710T183143Z
LAST-MODIFIED:20250710T184155Z
UID:9254-1754125200-1754143200@theroamingcoyote.com
SUMMARY:Friendship Firehouse Festival
DESCRIPTION:
URL:https://theroamingcoyote.com/event/friendship-firehouse-festival/
LOCATION:100 South Alfred St\, 100 South Alfred St\, Alexandria\, VA\, 22314\, United States
END:VEVENT
BEGIN:VEVENT
DTSTART;TZID=America/New_York:20250723T170000
DTEND;TZID=America/New_York:20250723T190000
DTSTAMP:20260424T042607
CREATED:20230515T212047Z
LAST-MODIFIED:20250613T193152Z
UID:7696-1753290000-1753297200@theroamingcoyote.com
SUMMARY:ILDA Pool
DESCRIPTION:
URL:https://theroamingcoyote.com/event/ilda-pool/
LOCATION:8900 Braeburn Dr\, 8900 Braeburn Dr\, Annandale\, VA\, 22003\, United States
END:VEVENT
BEGIN:VEVENT
DTSTART;TZID=America/New_York:20250719T160000
DTEND;TZID=America/New_York:20250719T210000
DTSTAMP:20260424T042607
CREATED:20250613T193229Z
LAST-MODIFIED:20250613T193229Z
UID:9236-1752940800-1752958800@theroamingcoyote.com
SUMMARY:Tarara Winery - Gonzo's Nose
DESCRIPTION:
URL:https://theroamingcoyote.com/event/tarara-winery-gonzos-nose/
LOCATION:Tarara Winery\, 13648 Tarara Lane\, Leesburg\, VA\, 20176\, United States
END:VEVENT
BEGIN:VEVENT
DTSTART;TZID=America/New_York:20250718T183000
DTEND;TZID=America/New_York:20250718T213000
DTSTAMP:20260424T042607
CREATED:20240916T174112Z
LAST-MODIFIED:20250613T193017Z
UID:8541-1752863400-1752874200@theroamingcoyote.com
SUMMARY:Chillin' On Church
DESCRIPTION:
URL:https://theroamingcoyote.com/event/chillin-on-church-2/
LOCATION:Vienna Town Green\, 144 Maple Avenue E\, Vienna\, VA\, 22180\, United States
END:VEVENT
BEGIN:VEVENT
DTSTART;TZID=America/New_York:20250717T160000
DTEND;TZID=America/New_York:20250717T200000
DTSTAMP:20260424T042607
CREATED:20250613T192942Z
LAST-MODIFIED:20250613T192942Z
UID:9232-1752768000-1752782400@theroamingcoyote.com
SUMMARY:Bunnyman Brewing Co
DESCRIPTION:
URL:https://theroamingcoyote.com/event/bunnyman-brewing-co-45-2/
LOCATION:5583 Guinea Rd\, 5583 Guinea Rd\, Fairfax\, VA\, 22032\, United States
END:VEVENT
BEGIN:VEVENT
DTSTART;TZID=America/New_York:20250712T180000
DTEND;TZID=America/New_York:20250712T210000
DTSTAMP:20260424T042607
CREATED:20220627T200039Z
LAST-MODIFIED:20250711T014228Z
UID:7332-1752343200-1752354000@theroamingcoyote.com
SUMMARY:Twilight Polo Club
DESCRIPTION:
URL:https://theroamingcoyote.com/event/twilight-polo-club/
LOCATION:37636 Charisma Lane\, 37636 Charisma Lane\, Middleburg\, VA\, 20117\, United States
END:VEVENT
BEGIN:VEVENT
DTSTART;TZID=America/New_York:20250711T170000
DTEND;TZID=America/New_York:20250711T190000
DTSTAMP:20260424T042607
CREATED:20250613T192335Z
LAST-MODIFIED:20250613T192335Z
UID:9226-1752253200-1752260400@theroamingcoyote.com
SUMMARY:Hunt Valley Swim Club
DESCRIPTION:
URL:https://theroamingcoyote.com/event/hunt-valley-swim-club-2-2/
LOCATION:7100 Sydenstricker Rd\, 7100 Sydenstricker Rd\, Springfield\, VA\, 22152\, United States
END:VEVENT
BEGIN:VEVENT
DTSTART;TZID=America/New_York:20250705T120000
DTEND;TZID=America/New_York:20250705T200000
DTSTAMP:20260424T042607
CREATED:20250613T192244Z
LAST-MODIFIED:20250613T192244Z
UID:9223-1751716800-1751745600@theroamingcoyote.com
SUMMARY:Bunnyman Brewing co
DESCRIPTION:
URL:https://theroamingcoyote.com/event/bunnyman-brewing-co-45/
LOCATION:5583 Guinea Rd\, 5583 Guinea Rd\, Fairfax\, VA\, 22032\, United States
END:VEVENT
BEGIN:VEVENT
DTSTART;TZID=America/New_York:20250704T170000
DTEND;TZID=America/New_York:20250704T220000
DTSTAMP:20260424T042607
CREATED:20210618T215023Z
LAST-MODIFIED:20250613T185944Z
UID:6429-1751648400-1751666400@theroamingcoyote.com
SUMMARY:Fairfax HS Fireworks
DESCRIPTION:
URL:https://theroamingcoyote.com/event/fairfax-hs-fireworks/
LOCATION:3501 Lion Run\, 3501 Lion Run\, Fairfax\, 22030\, United States
END:VEVENT
BEGIN:VEVENT
DTSTART;TZID=America/New_York:20250628T180000
DTEND;TZID=America/New_York:20250628T220000
DTSTAMP:20260424T042607
CREATED:20250613T185601Z
LAST-MODIFIED:20250613T185601Z
UID:9217-1751133600-1751148000@theroamingcoyote.com
SUMMARY:McLean Independence Day Fireworks Celebration
DESCRIPTION:
URL:https://theroamingcoyote.com/event/mclean-independence-day-fireworks-celebration/
LOCATION:Langley High School\, 6520 Georgetown Pike\, McLean\, VA\, 22101\, United States
END:VEVENT
BEGIN:VEVENT
DTSTART;TZID=America/New_York:20250627T170000
DTEND;TZID=America/New_York:20250627T210000
DTSTAMP:20260424T042607
CREATED:20240916T175026Z
LAST-MODIFIED:20250613T185211Z
UID:8556-1751043600-1751058000@theroamingcoyote.com
SUMMARY:Fairfax City Rock the Block - Perfekt Blend
DESCRIPTION:
URL:https://theroamingcoyote.com/event/rock-the-block-dr-fu-herr-metal/
LOCATION:Old Town Square\, 10415 North Street\, Fairfax\, VA\, 22030\, United States
END:VEVENT
BEGIN:VEVENT
DTSTART;TZID=America/New_York:20250627T170000
DTEND;TZID=America/New_York:20250627T190000
DTSTAMP:20260424T042607
CREATED:20250613T185050Z
LAST-MODIFIED:20250613T185050Z
UID:9211-1751043600-1751050800@theroamingcoyote.com
SUMMARY:Hunt Valley Swim Club
DESCRIPTION:
URL:https://theroamingcoyote.com/event/hunt-valley-swim-club-2/
LOCATION:7100 Sydenstricker Rd\, 7100 Sydenstricker Rd\, Springfield\, VA\, 22152\, United States
END:VEVENT
BEGIN:VEVENT
DTSTART;TZID=America/New_York:20250624T180000
DTEND;TZID=America/New_York:20250624T200000
DTSTAMP:20260424T042607
CREATED:20250613T184526Z
LAST-MODIFIED:20250613T184526Z
UID:9202-1750788000-1750795200@theroamingcoyote.com
SUMMARY:Jim McKay Chevrolet (private)
DESCRIPTION:
URL:https://theroamingcoyote.com/event/jim-mckay-chevrolet-private/
LOCATION:3509 University Dr\, 3509 University Dr\, FAIRFAX\, VA\, 22030\, United States
END:VEVENT
BEGIN:VEVENT
DTSTART;TZID=America/New_York:20250624T120000
DTEND;TZID=America/New_York:20250624T140000
DTSTAMP:20260424T042607
CREATED:20250613T184219Z
LAST-MODIFIED:20250613T184219Z
UID:9198-1750766400-1750773600@theroamingcoyote.com
SUMMARY:Public Opinion Strategies (private)
DESCRIPTION:
URL:https://theroamingcoyote.com/event/public-opinion-strategies-private/
LOCATION:214 N. Fayette St\, 214 N. Fayette St\, Alexandria\, VA\, 22134\, United States
END:VEVENT
BEGIN:VEVENT
DTSTART;TZID=America/New_York:20250621T160000
DTEND;TZID=America/New_York:20250621T210000
DTSTAMP:20260424T042607
CREATED:20230919T174817Z
LAST-MODIFIED:20250613T184040Z
UID:7896-1750521600-1750539600@theroamingcoyote.com
SUMMARY:Tarara Winery - Three Sheets to the Wind/ Yacht Rock
DESCRIPTION:
URL:https://theroamingcoyote.com/event/tarara-winery/
LOCATION:Tarara Winery\, 13648 Tarara Lane\, Leesburg\, VA\, 20176\, United States
END:VEVENT
BEGIN:VEVENT
DTSTART;TZID=America/New_York:20250621T120000
DTEND;TZID=America/New_York:20250621T160000
DTSTAMP:20260424T042607
CREATED:20250613T183857Z
LAST-MODIFIED:20250613T183857Z
UID:9192-1750507200-1750521600@theroamingcoyote.com
SUMMARY:Vanish Brewery (private event)
DESCRIPTION:
URL:https://theroamingcoyote.com/event/vanish-brewery-private-event/
LOCATION:42245 Black Hops Ln\, 42245 Black Hops Ln\, Leesburg\, VA\, 20176\, United States
END:VEVENT
BEGIN:VEVENT
DTSTART;TZID=America/New_York:20250620T170000
DTEND;TZID=America/New_York:20250620T190000
DTSTAMP:20260424T042607
CREATED:20250613T183528Z
LAST-MODIFIED:20250613T183528Z
UID:9188-1750438800-1750446000@theroamingcoyote.com
SUMMARY:Hunt Valley Swim Club
DESCRIPTION:
URL:https://theroamingcoyote.com/event/hunt-valley-swim-club/
LOCATION:7100 Sydenstricker Rd\, 7100 Sydenstricker Rd\, Springfield\, VA\, 22152\, United States
END:VEVENT
BEGIN:VEVENT
DTSTART;TZID=America/New_York:20250619T190000
DTEND;TZID=America/New_York:20250619T200000
DTSTAMP:20260424T042607
CREATED:20250616T143059Z
LAST-MODIFIED:20250616T143059Z
UID:9242-1750359600-1750363200@theroamingcoyote.com
SUMMARY:Town & Country Animal Hospital Annandale (private)
DESCRIPTION:
URL:https://theroamingcoyote.com/event/town-country-animal-hospital-annandale-private-2-2/
LOCATION:4205 Evergreen Lane\, 4205 Evergreen Lane\, Ashburn\, 22003\, United States
END:VEVENT
BEGIN:VEVENT
DTSTART;TZID=America/New_York:20250619T190000
DTEND;TZID=America/New_York:20250619T200000
DTSTAMP:20260424T042607
CREATED:20250613T183156Z
LAST-MODIFIED:20250616T143135Z
UID:9182-1750359600-1750363200@theroamingcoyote.com
SUMMARY:Town & Country Animal Hospital Annandale (private)
DESCRIPTION:
URL:https://theroamingcoyote.com/event/town-country-animal-hospital-annandale-private-2/
LOCATION:4205 Evergreen Lane\, 4205 Evergreen Lane\, Ashburn\, 22003\, United States
END:VEVENT
BEGIN:VEVENT
DTSTART;TZID=America/New_York:20250619T090000
DTEND;TZID=America/New_York:20250619T170000
DTSTAMP:20260424T042607
CREATED:20250613T183318Z
LAST-MODIFIED:20250613T183318Z
UID:9185-1750323600-1750352400@theroamingcoyote.com
SUMMARY:Juneteenth Scotland Heritage Festival
DESCRIPTION:
URL:https://theroamingcoyote.com/event/juneteenth-scotland-heritage-festival/
LOCATION:Cabin John Park\, 7401 MacArthur Boulevard\, Cabin John\, MD\, 20818\, United States
END:VEVENT
BEGIN:VEVENT
DTSTART;TZID=America/New_York:20250618T120000
DTEND;TZID=America/New_York:20250618T130000
DTSTAMP:20260424T042607
CREATED:20240709T201134Z
LAST-MODIFIED:20250613T182943Z
UID:8386-1750248000-1750251600@theroamingcoyote.com
SUMMARY:Town & Country Animal Hospital (private)
DESCRIPTION:
URL:https://theroamingcoyote.com/event/town-country-animal-hospital-3/
LOCATION:9836 Fairfax Blvd\, 9836 Fairfax Blvd\, Fairfax\, VA\, 22030\, United States
END:VEVENT
END:VCALENDAR